BEGIN:VCALENDAR
VERSION:2.0
PRODID:-//Dillard House - ECPv6.15.20//NONSGML v1.0//EN
CALSCALE:GREGORIAN
METHOD:PUBLISH
X-WR-CALNAME:Dillard House
X-ORIGINAL-URL:https://www.dillardhouse.com
X-WR-CALDESC:Events for Dillard House
REFRESH-INTERVAL;VALUE=DURATION:PT1H
X-Robots-Tag:noindex
X-PUBLISHED-TTL:PT1H
BEGIN:VTIMEZONE
TZID:UTC
BEGIN:STANDARD
TZOFFSETFROM:+0000
TZOFFSETTO:+0000
TZNAME:UTC
DTSTART:20250101T000000
END:STANDARD
END:VTIMEZONE
BEGIN:VEVENT
DTSTART;TZID=UTC:20260424T190000
DTEND;TZID=UTC:20260424T213000
DTSTAMP:20260423T081509
CREATED:20260420T010440Z
LAST-MODIFIED:20260420T010603Z
UID:16525-1777057200-1777066200@www.dillardhouse.com
SUMMARY:Fiddler on the Roof
DESCRIPTION:Located right next door to the Dillard House – \n\nFiddler on the Roof is the brainchild of Broadway legends\, Jerome Robbins and Harold Prince; songwriters\, Jerry Bock and Sheldon Harnick; and bookwriter\, Joseph Stein. Touching audiences worldwide with its humor\, warmth\, and honesty\, this universal show is a staple of the musical theatre canon.\n​\nSet in the little village of Anatevka\, the story centers on Tevye\, a poor milkman\, and his five daughters. With the help of a colorful and tight-knit Jewish community\, Tevye tries to protect his daughters and instill them with traditional values in the face of changing social mores and the growing anti-Semitism of Czarist Russia. Rich in historical and ethnic detail\, Fiddler on the Roof’s universal theme of tradition cuts across barriers of race\, class\, nationality\, and religion\, leaving audiences crying tears of laughter\, joy\, and sadness. \n\n\n\n\nAdd to calendar
URL:https://www.dillardhouse.com/calendar/fiddler-on-the-roof/
LOCATION:North GA Community Players\, 892 Franklin St.\, Dillard\, GA\, 30537\, United States
ATTACH;FMTTYPE=image/jpeg:https://www.dillardhouse.com/wp-content/uploads/2026/04/yfgosr7pjedeemtociid.jpg
END:VEVENT
BEGIN:VEVENT
DTSTART;TZID=UTC:20260424T193000
DTEND;TZID=UTC:20260424T203000
DTSTAMP:20260423T081509
CREATED:20260420T011703Z
LAST-MODIFIED:20260420T011920Z
UID:16537-1777059000-1777062600@www.dillardhouse.com
SUMMARY:Smoky Mt. Center for the Performing Arts - Little Texas
DESCRIPTION:More than three decades after first hitting country radio\, Little Texas remains one of the most recognizable and influential bands to emerge from the ’90s country movement. With timeless hits\, unmistakable harmonies\, and a reputation as one of the genre’s hardest-touring acts\, the band continues to draw multi-generational audiences who know every word—whether they first heard the songs in the ’90s or discovered them years later. \nThe band features original members Porter Howell (lead guitar\, lead vocals)\, Dwayne O’Brien (rhythm guitar\, vocals)\, Duane Propes (bass\, vocals)\, and drummer Del Gray. More than 30 years after their breakthrough\, they continue to tour nationally\, bringing the songs that defined a generation—and inspired the next—to stages across the country. \nWith over seven million albums sold\, a catalog of enduring hits\, and a legacy that continues to influence today’s artists\, Little Texas proves that great songs—and great bands—don’t fade with time. They grow.
URL:https://www.dillardhouse.com/calendar/smoky-mt-center-for-the-performing-arts-little-texas/
LOCATION:Smoky Mt. Center for the Performing Arts\, 1028 Georgia Rd\, Franklin\, NC\, 28734\, United States
ATTACH;FMTTYPE=image/png:https://www.dillardhouse.com/wp-content/uploads/2026/04/Little-Texas-WEB-691x675-1.png
END:VEVENT
BEGIN:VEVENT
DTSTART;TZID=UTC:20260425T090000
DTEND;TZID=UTC:20260425T210000
DTSTAMP:20260423T081509
CREATED:20260420T015231Z
LAST-MODIFIED:20260420T015231Z
UID:16550-1777107600-1777150800@www.dillardhouse.com
SUMMARY:Dillard House Guests Yard Games
DESCRIPTION:There’s something timeless about gathering outdoors and enjoying the simple pleasures. With fresh mountain air\, scenic views\, and classic lawn games\, we invite you to slow down\, unwind\, and enjoy a little friendly competition in a setting designed for comfort and ease. \nThese moments of connection and play are thoughtfully prepared for our overnight guests to enjoy—just one of the many little touches that make your stay with us special.
URL:https://www.dillardhouse.com/calendar/dillard-house-guests-yard-games/
LOCATION:Dillard House Oaklawn\, Dillard House Oaklawn
ATTACH;FMTTYPE=image/jpeg:https://www.dillardhouse.com/wp-content/uploads/2026/04/luxury-cornhole-v0-pp35mlgzpn0c1-1-scaled.jpg
END:VEVENT
BEGIN:VEVENT
DTSTART;TZID=UTC:20260425T130000
DTEND;TZID=UTC:20260425T150000
DTSTAMP:20260423T081509
CREATED:20260420T015937Z
LAST-MODIFIED:20260420T015952Z
UID:16554-1777122000-1777129200@www.dillardhouse.com
SUMMARY:Cornhole Tournament
DESCRIPTION:Think you’ve got the best toss in town?Join Black Rock Mountain State Park for an action-packed Cornhole Tournament filled with friendly competition and fresh air!Prizes for top teams! Bring a partner or sign up solo. We kindly ask all participants to meet at The Mellinger Center by 1pm. \nFREE to attend. $10 parking pass per vehicle.
URL:https://www.dillardhouse.com/calendar/cornhole-tournament/
LOCATION:Black Rock Mountain State Park\, 3085 Black Rock Mountain Parkway\, Mountain City\, GA\, 30525\, United States
ATTACH;FMTTYPE=image/webp:https://www.dillardhouse.com/wp-content/uploads/2026/04/9b5682ae-80ad-5ded-1b69-e9b74a7a1849.webp
END:VEVENT
BEGIN:VEVENT
DTSTART;TZID=UTC:20260425T180000
DTEND;TZID=UTC:20260425T210000
DTSTAMP:20260423T081509
CREATED:20260420T013835Z
LAST-MODIFIED:20260420T013835Z
UID:16545-1777140000-1777150800@www.dillardhouse.com
SUMMARY:Dillard House Guests S'mores Night
DESCRIPTION:There’s something timeless about gathering around the fire at our Oaklawn. As the sun sets over the North Georgia mountains\, we invite you to slow down\, cozy up\, and indulge in a classic treat—warm\, gooey s’mores made just the way you like them. Crackling flames\, sweet chocolate\, toasted marshmallows\, and good company create the perfect evening here at Dillard House. \nThis cozy fireside experience is thoughtfully prepared for our overnight guests to enjoy—just one of the many little touches that make your stay with us special. ✨🔥
URL:https://www.dillardhouse.com/calendar/dillard-house-guests-smores-night/
LOCATION:Dillard House Oaklawn\, Dillard House Oaklawn
ATTACH;FMTTYPE=image/webp:https://www.dillardhouse.com/wp-content/uploads/2026/04/Oaklawn-Firepit-765x867.jpg.webp
END:VEVENT
BEGIN:VEVENT
DTSTART;TZID=UTC:20260425T190000
DTEND;TZID=UTC:20260425T210000
DTSTAMP:20260423T081509
CREATED:20260420T022738Z
LAST-MODIFIED:20260420T022825Z
UID:16563-1777143600-1777150800@www.dillardhouse.com
SUMMARY:Moonrise Distillery Hidden Speakeasy Grand Opening Celebration
DESCRIPTION:Celebrate the growth of Moonrise Distillery as they unveil their newly relocated and expanded speakeasy—(but don’t tell the law). Enjoy great food from the Dillard House\, along with live jazz\, craft cocktails\, and a lively atmosphere at our grand opening. \nStep into a speakeasy experience that transports you back to the 1920s\, featuring Moonrise Distillery’s award-winning boutique spirits. Nestled in the mountain setting of Clayton\, Georgia in Rabun County\, it’s the perfect place to sip exceptional cocktails and unwind. \nThis Speakeasy is the perfect complement to your distillery visit—so come relax\, enjoy the moment\, and remember… shhhh. Visit the distillery and ask the bartender to see Max.
URL:https://www.dillardhouse.com/calendar/moonrise-distillery-hidden-speakeasy-grand-opening-celebration-2/
LOCATION:Moonrise Distillery\, 31 Webb Rd\, Clayton\, Clayton\, GA\, 30525\, United States
ATTACH;FMTTYPE=image/webp:https://www.dillardhouse.com/wp-content/uploads/2026/04/Moonrise.webp
END:VEVENT
BEGIN:VEVENT
DTSTART;TZID=UTC:20260425T190000
DTEND;TZID=UTC:20260425T213000
DTSTAMP:20260423T081509
CREATED:20260420T010549Z
LAST-MODIFIED:20260421T022915Z
UID:16529-1777143600-1777152600@www.dillardhouse.com
SUMMARY:Fiddler on the Roof
DESCRIPTION:Located right next door to the Dillard House! \n\nFiddler on the Roof is the brainchild of Broadway legends\, Jerome Robbins and Harold Prince; songwriters\, Jerry Bock and Sheldon Harnick; and bookwriter\, Joseph Stein. Touching audiences worldwide with its humor\, warmth\, and honesty\, this universal show is a staple of the musical theatre canon.\n​\nSet in the little village of Anatevka\, the story centers on Tevye\, a poor milkman\, and his five daughters. With the help of a colorful and tight-knit Jewish community\, Tevye tries to protect his daughters and instill them with traditional values in the face of changing social mores and the growing anti-Semitism of Czarist Russia. Rich in historical and ethnic detail\, Fiddler on the Roof’s universal theme of tradition cuts across barriers of race\, class\, nationality\, and religion\, leaving audiences crying tears of laughter\, joy\, and sadness. \n\n*** Special Tip – show your Fiddler on the Roof ticket/receipt\, and you will get 20% off one night at Dillard House! \n\n\n\nAdd to calendar
URL:https://www.dillardhouse.com/calendar/fiddler-on-the-roof-2/
LOCATION:North GA Community Players\, 892 Franklin St.\, Dillard\, GA\, 30537\, United States
ATTACH;FMTTYPE=image/jpeg:https://www.dillardhouse.com/wp-content/uploads/2026/04/yfgosr7pjedeemtociid.jpg
END:VEVENT
BEGIN:VEVENT
DTSTART;TZID=UTC:20260426T150000
DTEND;TZID=UTC:20260426T170000
DTSTAMP:20260423T081509
CREATED:20260420T010634Z
LAST-MODIFIED:20260421T023105Z
UID:16530-1777215600-1777222800@www.dillardhouse.com
SUMMARY:Fiddler on the Roof
DESCRIPTION:Located right next door to the Dillard House – \n\nFiddler on the Roof is the brainchild of Broadway legends\, Jerome Robbins and Harold Prince; songwriters\, Jerry Bock and Sheldon Harnick; and bookwriter\, Joseph Stein. Touching audiences worldwide with its humor\, warmth\, and honesty\, this universal show is a staple of the musical theatre canon.\n​\nSet in the little village of Anatevka\, the story centers on Tevye\, a poor milkman\, and his five daughters. With the help of a colorful and tight-knit Jewish community\, Tevye tries to protect his daughters and instill them with traditional values in the face of changing social mores and the growing anti-Semitism of Czarist Russia. Rich in historical and ethnic detail\, Fiddler on the Roof’s universal theme of tradition cuts across barriers of race\, class\, nationality\, and religion\, leaving audiences crying tears of laughter\, joy\, and sadness. \n\n*** Special Tip – show your Fiddler on the Roof ticket/receipt\, and you will get 20% off one night at Dillard House! \n\n\n\nAdd to calendar
URL:https://www.dillardhouse.com/calendar/fiddler-on-the-roof-3/
LOCATION:North GA Community Players\, 892 Franklin St.\, Dillard\, GA\, 30537\, United States
ATTACH;FMTTYPE=image/jpeg:https://www.dillardhouse.com/wp-content/uploads/2026/04/yfgosr7pjedeemtociid.jpg
END:VEVENT
END:VCALENDAR