BEGIN:VCALENDAR
VERSION:2.0
PRODID:-//Dillard House - ECPv6.15.20//NONSGML v1.0//EN
CALSCALE:GREGORIAN
METHOD:PUBLISH
X-ORIGINAL-URL:https://www.dillardhouse.com
X-WR-CALDESC:Events for Dillard House
REFRESH-INTERVAL;VALUE=DURATION:PT1H
X-Robots-Tag:noindex
X-PUBLISHED-TTL:PT1H
BEGIN:VTIMEZONE
TZID:UTC
BEGIN:STANDARD
TZOFFSETFROM:+0000
TZOFFSETTO:+0000
TZNAME:UTC
DTSTART:20250101T000000
END:STANDARD
END:VTIMEZONE
BEGIN:VEVENT
DTSTART;TZID=UTC:20260501T190000
DTEND;TZID=UTC:20260501T213000
DTSTAMP:20260421T101641
CREATED:20260420T010732Z
LAST-MODIFIED:20260420T010732Z
UID:16531-1777662000-1777671000@www.dillardhouse.com
SUMMARY:Fiddler on the Roof
DESCRIPTION:Located right next door to the Dillard House – \n\nFiddler on the Roof is the brainchild of Broadway legends\, Jerome Robbins and Harold Prince; songwriters\, Jerry Bock and Sheldon Harnick; and bookwriter\, Joseph Stein. Touching audiences worldwide with its humor\, warmth\, and honesty\, this universal show is a staple of the musical theatre canon.\n​\nSet in the little village of Anatevka\, the story centers on Tevye\, a poor milkman\, and his five daughters. With the help of a colorful and tight-knit Jewish community\, Tevye tries to protect his daughters and instill them with traditional values in the face of changing social mores and the growing anti-Semitism of Czarist Russia. Rich in historical and ethnic detail\, Fiddler on the Roof’s universal theme of tradition cuts across barriers of race\, class\, nationality\, and religion\, leaving audiences crying tears of laughter\, joy\, and sadness. \n\n\n\n\nAdd to calendar
URL:https://www.dillardhouse.com/calendar/fiddler-on-the-roof-4/
LOCATION:North GA Community Players\, 892 Franklin St.\, Dillard\, GA\, 30537\, United States
ATTACH;FMTTYPE=image/jpeg:https://www.dillardhouse.com/wp-content/uploads/2026/04/yfgosr7pjedeemtociid.jpg
END:VEVENT
BEGIN:VEVENT
DTSTART;TZID=UTC:20260501T193000
DTEND;TZID=UTC:20260501T213000
DTSTAMP:20260421T101641
CREATED:20260420T012234Z
LAST-MODIFIED:20260420T012234Z
UID:16542-1777663800-1777671000@www.dillardhouse.com
SUMMARY:Etta May- Female Comic Of the Year
DESCRIPTION:Etta May has performed her brand of clean-comedy on Oprah\, Showtime\, Comic Strip Live\, MTV\, and as a guest commentator on “CBS Sunday Morning\,” Winner of the prestigious American Comedy Awards “Comic Of The Year\,” and so much more. \nIn addition\, she headlines the successful all-female comedy tour\, “Etta May and the Southern Fried Chicks\,” selling out theatres all over the country. Think Blue Collar Comedy Tour with better hair and a bigger attitude! In addition to television\, Etta May is a regular on Sirius-XM Comedy Channels and the syndicated Bob & Tom radio show.  \nBefore finding success as a stand-up comic\, Etta wandered from dead-end job to dead-end job\, including a 10-year stint as a school bus driver. She says she learned how to handle unruly kids by Armor-Alling the seats and slamming on the brakes all the way to school. Her theory: “Kind of hard to pick a fight with the kid in front of you when you’re just holding on for dear life.”\n \nThen she decided to take a chance on herself and follow her dream. Lots of hard work and drive\, and a few years later\, she wins “Female Comic Of The Year” at the American Comedy Awards. It’s the American Story we are all told that you can become anything you set your mind to in this great country\, and for Etta May\, it worked!
URL:https://www.dillardhouse.com/calendar/etta-may-female-comic-of-the-year/
LOCATION:Smoky Mt. Center for the Performing Arts\, 1028 Georgia Rd\, Franklin\, NC\, 28734\, United States
ATTACH;FMTTYPE=image/png:https://www.dillardhouse.com/wp-content/uploads/2026/04/Etta-May-Web-691x675-1.png
END:VEVENT
BEGIN:VEVENT
DTSTART;TZID=UTC:20260502T090000
DTEND;TZID=UTC:20260502T120000
DTSTAMP:20260421T101641
CREATED:20260420T020401Z
LAST-MODIFIED:20260420T020401Z
UID:16559-1777712400-1777723200@www.dillardhouse.com
SUMMARY:Kids Fishing Rodeo
DESCRIPTION:Join Black Rock Lake for their annual Fishing Rodeo—a fun\, family-friendly event for kids 15 and under! \nParticipants will meet at the BRMSP Lake Fishing Pier at 9:00 AM to kick off the day. Each participant will receive a goodie bag\, and there will be plenty of chances to win prizes\, including trophies for the biggest catch and the most fish. \nDon’t have your own gear? No problem—loaner fishing poles will be available while supplies last. Food and beverages will also be available for purchase on-site. \nPlease note: A $10 Daily ParkPass or a valid Annual ParkPass is required for entry.
URL:https://www.dillardhouse.com/calendar/kids-fishing-rodeo/
LOCATION:Black Rock Mountain State Park\, 3085 Black Rock Mountain Parkway\, Mountain City\, GA\, 30525\, United States
ATTACH;FMTTYPE=image/jpeg:https://www.dillardhouse.com/wp-content/uploads/2026/04/BRL.jpg
END:VEVENT
BEGIN:VEVENT
DTSTART;TZID=UTC:20260502T190000
DTEND;TZID=UTC:20260502T210000
DTSTAMP:20260421T101641
CREATED:20260420T005233Z
LAST-MODIFIED:20260420T021103Z
UID:16519-1777748400-1777755600@www.dillardhouse.com
SUMMARY:Moonrise Distillery Ballroom Dancing at the Hidden Speakeasy
DESCRIPTION:Join Moonrise Distillery for a FREE dance lesson at 7pm with world class instructors Theo & Ganine.\n\nBe bold\, be brave\, take a chance\, learn to dance and have a great time!
URL:https://www.dillardhouse.com/calendar/moonrise-distillery-hidden-speakeasy-grand-opening-celebration/
LOCATION:Moonrise Distillery\, 31 Webb Rd\, Clayton\, Clayton\, GA\, 30525\, United States
ATTACH;FMTTYPE=image/jpeg:https://www.dillardhouse.com/wp-content/uploads/2026/04/images.jpg
END:VEVENT
BEGIN:VEVENT
DTSTART;TZID=UTC:20260502T190000
DTEND;TZID=UTC:20260502T213000
DTSTAMP:20260421T101641
CREATED:20260420T010744Z
LAST-MODIFIED:20260420T010744Z
UID:16532-1777748400-1777757400@www.dillardhouse.com
SUMMARY:Fiddler on the Roof
DESCRIPTION:Located right next door to the Dillard House – \n\nFiddler on the Roof is the brainchild of Broadway legends\, Jerome Robbins and Harold Prince; songwriters\, Jerry Bock and Sheldon Harnick; and bookwriter\, Joseph Stein. Touching audiences worldwide with its humor\, warmth\, and honesty\, this universal show is a staple of the musical theatre canon.\n​\nSet in the little village of Anatevka\, the story centers on Tevye\, a poor milkman\, and his five daughters. With the help of a colorful and tight-knit Jewish community\, Tevye tries to protect his daughters and instill them with traditional values in the face of changing social mores and the growing anti-Semitism of Czarist Russia. Rich in historical and ethnic detail\, Fiddler on the Roof’s universal theme of tradition cuts across barriers of race\, class\, nationality\, and religion\, leaving audiences crying tears of laughter\, joy\, and sadness. \n\n\n\n\nAdd to calendar
URL:https://www.dillardhouse.com/calendar/fiddler-on-the-roof-5/
LOCATION:North GA Community Players\, 892 Franklin St.\, Dillard\, GA\, 30537\, United States
ATTACH;FMTTYPE=image/jpeg:https://www.dillardhouse.com/wp-content/uploads/2026/04/yfgosr7pjedeemtociid.jpg
END:VEVENT
BEGIN:VEVENT
DTSTART;TZID=UTC:20260503T150000
DTEND;TZID=UTC:20260503T170000
DTSTAMP:20260421T101641
CREATED:20260420T010838Z
LAST-MODIFIED:20260420T010838Z
UID:16533-1777820400-1777827600@www.dillardhouse.com
SUMMARY:Fiddler on the Roof
DESCRIPTION:Located right next door to the Dillard House – \n\nFiddler on the Roof is the brainchild of Broadway legends\, Jerome Robbins and Harold Prince; songwriters\, Jerry Bock and Sheldon Harnick; and bookwriter\, Joseph Stein. Touching audiences worldwide with its humor\, warmth\, and honesty\, this universal show is a staple of the musical theatre canon.\n​\nSet in the little village of Anatevka\, the story centers on Tevye\, a poor milkman\, and his five daughters. With the help of a colorful and tight-knit Jewish community\, Tevye tries to protect his daughters and instill them with traditional values in the face of changing social mores and the growing anti-Semitism of Czarist Russia. Rich in historical and ethnic detail\, Fiddler on the Roof’s universal theme of tradition cuts across barriers of race\, class\, nationality\, and religion\, leaving audiences crying tears of laughter\, joy\, and sadness. \n\n\n\n\nAdd to calendar
URL:https://www.dillardhouse.com/calendar/fiddler-on-the-roof-6/
LOCATION:North GA Community Players\, 892 Franklin St.\, Dillard\, GA\, 30537\, United States
ATTACH;FMTTYPE=image/jpeg:https://www.dillardhouse.com/wp-content/uploads/2026/04/yfgosr7pjedeemtociid.jpg
END:VEVENT
BEGIN:VEVENT
DTSTART;TZID=UTC:20260508T190000
DTEND;TZID=UTC:20260508T213000
DTSTAMP:20260421T101641
CREATED:20260420T010849Z
LAST-MODIFIED:20260420T010849Z
UID:16534-1778266800-1778275800@www.dillardhouse.com
SUMMARY:Fiddler on the Roof
DESCRIPTION:Located right next door to the Dillard House – \n\nFiddler on the Roof is the brainchild of Broadway legends\, Jerome Robbins and Harold Prince; songwriters\, Jerry Bock and Sheldon Harnick; and bookwriter\, Joseph Stein. Touching audiences worldwide with its humor\, warmth\, and honesty\, this universal show is a staple of the musical theatre canon.\n​\nSet in the little village of Anatevka\, the story centers on Tevye\, a poor milkman\, and his five daughters. With the help of a colorful and tight-knit Jewish community\, Tevye tries to protect his daughters and instill them with traditional values in the face of changing social mores and the growing anti-Semitism of Czarist Russia. Rich in historical and ethnic detail\, Fiddler on the Roof’s universal theme of tradition cuts across barriers of race\, class\, nationality\, and religion\, leaving audiences crying tears of laughter\, joy\, and sadness. \n\n\n\n\nAdd to calendar
URL:https://www.dillardhouse.com/calendar/fiddler-on-the-roof-7/
LOCATION:North GA Community Players\, 892 Franklin St.\, Dillard\, GA\, 30537\, United States
ATTACH;FMTTYPE=image/jpeg:https://www.dillardhouse.com/wp-content/uploads/2026/04/yfgosr7pjedeemtociid.jpg
END:VEVENT
BEGIN:VEVENT
DTSTART;TZID=UTC:20260509T133000
DTEND;TZID=UTC:20260509T153000
DTSTAMP:20260421T101641
CREATED:20260420T023957Z
LAST-MODIFIED:20260420T023957Z
UID:16569-1778333400-1778340600@www.dillardhouse.com
SUMMARY:Dance Arts Co-Op 2026 Recital
DESCRIPTION:Moments in Motion is a joyful celebration of dance featuring talented local students ages 3–18. From the grace of ballet & lyrical to the energy of jazz\, tap\, contemporary\, & hip-hop\, this heartwarming showcase highlights the dedication\, creativity\, and passion of our young performers. The program features a production of the mini-ballet Peter & the Wolf\, a classic which teaches children about the instruments of the orchestra through a memorable story. Join us for an inspiring afternoon as our dancers take the stage and bring each “moment” to life through movement. \nThe Dance Arts Co-op is a non-profit studio dedicated to enriching the community through classes\, outreach and events that introduce children and area residents to a variety of dance styles. The Co-op aspires to foster creativity\, confidence\, and a lifelong love of the arts. The studio is based out of the Cowee School Arts & Heritage Center in Franklin\, NC.
URL:https://www.dillardhouse.com/calendar/dance-arts-co-op-2026-recital/
LOCATION:Smoky Mt. Center for the Performing Arts\, 1028 Georgia Rd\, Franklin\, NC\, 28734\, United States
ATTACH;FMTTYPE=image/png:https://www.dillardhouse.com/wp-content/uploads/2026/04/Dance-Recital-Web-691x675-1.png
END:VEVENT
BEGIN:VEVENT
DTSTART;TZID=UTC:20260509T190000
DTEND;TZID=UTC:20260509T213000
DTSTAMP:20260421T101641
CREATED:20260420T010924Z
LAST-MODIFIED:20260420T010925Z
UID:16536-1778353200-1778362200@www.dillardhouse.com
SUMMARY:Fiddler on the Roof
DESCRIPTION:Located right next door to the Dillard House – \n\nFiddler on the Roof is the brainchild of Broadway legends\, Jerome Robbins and Harold Prince; songwriters\, Jerry Bock and Sheldon Harnick; and bookwriter\, Joseph Stein. Touching audiences worldwide with its humor\, warmth\, and honesty\, this universal show is a staple of the musical theatre canon.\n​\nSet in the little village of Anatevka\, the story centers on Tevye\, a poor milkman\, and his five daughters. With the help of a colorful and tight-knit Jewish community\, Tevye tries to protect his daughters and instill them with traditional values in the face of changing social mores and the growing anti-Semitism of Czarist Russia. Rich in historical and ethnic detail\, Fiddler on the Roof’s universal theme of tradition cuts across barriers of race\, class\, nationality\, and religion\, leaving audiences crying tears of laughter\, joy\, and sadness. \n\n\n\n\nAdd to calendar
URL:https://www.dillardhouse.com/calendar/fiddler-on-the-roof-9/
LOCATION:North GA Community Players\, 892 Franklin St.\, Dillard\, GA\, 30537\, United States
ATTACH;FMTTYPE=image/jpeg:https://www.dillardhouse.com/wp-content/uploads/2026/04/yfgosr7pjedeemtociid.jpg
END:VEVENT
BEGIN:VEVENT
DTSTART;TZID=UTC:20260510T150000
DTEND;TZID=UTC:20260510T170000
DTSTAMP:20260421T101641
CREATED:20260420T010911Z
LAST-MODIFIED:20260420T010911Z
UID:16535-1778425200-1778432400@www.dillardhouse.com
SUMMARY:Fiddler on the Roof
DESCRIPTION:Located right next door to the Dillard House – \n\nFiddler on the Roof is the brainchild of Broadway legends\, Jerome Robbins and Harold Prince; songwriters\, Jerry Bock and Sheldon Harnick; and bookwriter\, Joseph Stein. Touching audiences worldwide with its humor\, warmth\, and honesty\, this universal show is a staple of the musical theatre canon.\n​\nSet in the little village of Anatevka\, the story centers on Tevye\, a poor milkman\, and his five daughters. With the help of a colorful and tight-knit Jewish community\, Tevye tries to protect his daughters and instill them with traditional values in the face of changing social mores and the growing anti-Semitism of Czarist Russia. Rich in historical and ethnic detail\, Fiddler on the Roof’s universal theme of tradition cuts across barriers of race\, class\, nationality\, and religion\, leaving audiences crying tears of laughter\, joy\, and sadness. \n\n\n\n\nAdd to calendar
URL:https://www.dillardhouse.com/calendar/fiddler-on-the-roof-8/
LOCATION:North GA Community Players\, 892 Franklin St.\, Dillard\, GA\, 30537\, United States
ATTACH;FMTTYPE=image/jpeg:https://www.dillardhouse.com/wp-content/uploads/2026/04/yfgosr7pjedeemtociid.jpg
END:VEVENT
BEGIN:VEVENT
DTSTART;TZID=UTC:20260518T190000
DTEND;TZID=UTC:20260518T213000
DTSTAMP:20260421T101641
CREATED:20260420T024412Z
LAST-MODIFIED:20260420T024412Z
UID:16572-1779130800-1779139800@www.dillardhouse.com
SUMMARY:Brothers of the Heart
DESCRIPTION:A FAN-FAVORITE RETURNS! What began as four award-winning\, talented friends making music together has quickly become a nationally-renowned band. \nBrothers Of the Heart (Jimmy Fortune\, Ben Isaacs\, Bradley Walker\, Mike Rogers) reimagine country\, gospel and pop classics\, including “Ring of Fire\,” “Desperado\,” “Precious Memories” and more. \nShowcasing impeccable arrangements and seamless harmonies\, Brothers Of the Heart reminds the audience there is nothing greater than the joy of listening to great music.
URL:https://www.dillardhouse.com/calendar/brothers-of-the-heart/
LOCATION:Smoky Mt. Center for the Performing Arts\, 1028 Georgia Rd\, Franklin\, NC\, 28734\, United States
ATTACH;FMTTYPE=image/png:https://www.dillardhouse.com/wp-content/uploads/2026/04/Brothers-Web-691x675-1.png
END:VEVENT
BEGIN:VEVENT
DTSTART;TZID=UTC:20260523T180000
DTEND;TZID=UTC:20260523T213000
DTSTAMP:20260421T101641
CREATED:20260420T023407Z
LAST-MODIFIED:20260420T023407Z
UID:16565-1779559200-1779571800@www.dillardhouse.com
SUMMARY:Hiawassee Pro Rodeo
DESCRIPTION:Join others at the Georgia Mountain Fairgrounds for three days of Rodeo fun! Enjoy the best bucking horses\, bulls\, world class contestants from all over the United States and Canada\, and the top-of-the-line specialty acts! This is a family event that will definitely keep you on the edge of your seat with live entertainment!
URL:https://www.dillardhouse.com/calendar/hiawassee-pro-rodeo/
LOCATION:Georgia Mountain Fairgrounds\, 1311 Music Hall Rd.\, Hiawassee\, GA\, 30546\, United States
ATTACH;FMTTYPE=image/png:https://www.dillardhouse.com/wp-content/uploads/2026/04/557f07aa0d7a9d1f8e08d4adc7e0e57a_HiawasseeProRodeoMay23242026.png
END:VEVENT
BEGIN:VEVENT
DTSTART;TZID=UTC:20260524T200000
DTEND;TZID=UTC:20260524T230000
DTSTAMP:20260421T101641
CREATED:20260420T023436Z
LAST-MODIFIED:20260420T023436Z
UID:16568-1779652800-1779663600@www.dillardhouse.com
SUMMARY:Hiawassee Pro Rodeo
DESCRIPTION:Join others at the Georgia Mountain Fairgrounds for three days of Rodeo fun! Enjoy the best bucking horses\, bulls\, world class contestants from all over the United States and Canada\, and the top-of-the-line specialty acts! This is a family event that will definitely keep you on the edge of your seat with live entertainment!
URL:https://www.dillardhouse.com/calendar/hiawassee-pro-rodeo-2/
LOCATION:Georgia Mountain Fairgrounds\, 1311 Music Hall Rd.\, Hiawassee\, GA\, 30546\, United States
ATTACH;FMTTYPE=image/png:https://www.dillardhouse.com/wp-content/uploads/2026/04/557f07aa0d7a9d1f8e08d4adc7e0e57a_HiawasseeProRodeoMay23242026.png
END:VEVENT
END:VCALENDAR